Workbook

Sheet OVERVIEW
I2: Manual entry
C3: Clinics | G3: Procedures | H3: Number | I3: DOPS | L3: USS Logbook | P3: Curriculum
B4: Respiratory Medicine | C4: Enter name of clinic below, as listed on Clinic tab | F4: General Medicine | G4: Abdominal paracentesis | H4: =COUNTIF(Procedures!$C$5:$C$1048576,OVERVIEW!G4) -> 0 | L4: No of scans | M4: =COUNTA(USS!F5:G391) -> 0 | P4: (minimum requirements in brackets) | Q4: ST4 | R4: ST5 | S4: ST6 | T4: ST7 | U4: Total
G5: Advanced life support | H5: =COUNTIF(Procedures!$C$5:$C$1048576,OVERVIEW!G5) -> 0 | P5: MCR (x 4-6, min 2 GIM)
C6: Asthma | D6: =COUNTIF(Clinics!C:C,C6) -> 0 | G6: Airway management | H6: =COUNTIF(Procedures!$C$5:$C$1048576,OVERVIEW!G6) -> 0 | L6: Referrals | P6: MSF (x 12, min 3 cons)
C7: Bronchiectasis | D7: =COUNTIF(Clinics!C:C,C7) -> 0 | G7: Arterial line | H7: =COUNTIF(Procedures!$C$5:$C$1048576,OVERVIEW!G7) -> 0 | L7: Frith calculator | M7: =Referrals!F16 -> 0 | P7: ACATs (x 6, min 4 GIM)
C8: Cystic Fibrosis | D8: =COUNTIF(Clinics!C:C,C8) -> 0 | G8: Central line insertion | H8: =COUNTIF(Procedures!$C$5:$C$1048576,OVERVIEW!G8) -> 0 | P8: OPCATs (no min requirement)
C9: General Respiratory | D9: =COUNTIF(Clinics!C:C,C9) -> 0 | G9: Chemical cardioversion with adenosine | H9: =COUNTIF(Procedures!$C$5:$C$1048576,OVERVIEW!G9) -> 0 | L9: ITU | P9: Mini CEX/CBDs (x 6, min 3 GIM)
C10: Interstitial Lung Disease | D10: =COUNTIF(Clinics!C:C,C10) -> 0 | G10: DC cardioversion | H10: =COUNTIF(Procedures!$C$5:$C$1048576,OVERVIEW!G10) -> 0 | L10: ITU sessions | M10: =COUNTIF('ITU and HDU'!E:E,OVERVIEW!L10) -> 0 | P10: SCE (attempted by ST6) | U10: =IF(SUM(Q10:T10)>=1,"PASSED",0) -> 0
C11: Lung Cancer / Fast Track | D11: =COUNTIF(Clinics!C:C,C11) -> 0 | G11: External pacing | H11: =COUNTIF(Procedures!$C$5:$C$1048576,OVERVIEW!G11) -> 0 | L11: HDU sessions | M11: =COUNTIF('ITU and HDU'!E:E,OVERVIEW!L11) -> 0 | P11: Patient survey (x1 in ST4/ST5 and x1 in ST6/ST7) | U11: =SUM(Q11:T11) -> 0
C12: New Patient | D12: =COUNTIF(Clinics!C:C,C12) -> 0 | G12: Femoral/IO access | H12: =COUNTIF(Procedures!$C$5:$C$1048576,OVERVIEW!G12) -> 0 | P12: Teaching evaluation (x1 per year) | U12: =SUM(Q12:T12) -> 0
C13: Pleural | D13: =COUNTIF(Clinics!C:C,C13) -> 0 | G13: Joint aspiration | H13: =COUNTIF(Procedures!$C$5:$C$1048576,OVERVIEW!G13) -> 0 | L13: NIV patients | P13: Audit/QI participation (inc x 1 GIM by CCT) | U13: =SUM(Q13:T13) -> 0
C14: Pulmonary Hypertension | D14: =COUNTIF(Clinics!C:C,C14) -> 0 | G14: Lumbar puncture | H14: =COUNTIF(Procedures!$C$5:$C$1048576,OVERVIEW!G14) -> 0 | L14: NIV | M14: =COUNTIF(NIV!H5:H1000,"BIPAP") -> 0 | P14: Reflection (no min requirement) | U14: =SUM(Q14:T14) -> 0
C15: Sleep | D15: =COUNTIF(Clinics!C:C,C15) -> 0 | G15: Nasogastric tube insertion | H15: =COUNTIF(Procedures!$C$5:$C$1048576,OVERVIEW!G15) -> 0 | L15: CPAP | M15: =COUNTIF(NIV!H5:H1000,"CPAP") -> 0 | P15: GIM teaching hours (75 hours by CCT) | U15: =SUM('Teaching Attendance'!E:E) -> 0
C16: Thoracic Surgery | D16: =COUNTIF(Clinics!C:C,C16) -> 0 | G16: Other 1 | H16: =COUNTIF(Procedures!$C$5:$C$1048576,OVERVIEW!G16) -> 0 | P16: GIM sim/human factors hours (12 hours) | U16: =(SUM('Teaching Attendance'!H:H)) -> 0
C17: Tuberculosis | D17: =COUNTIF(Clinics!C:C,C17) -> 0 | G17: Other 2 | H17: =COUNTIF(Procedures!$C$5:$C$1048576,OVERVIEW!G17) -> 0 | L17: Bronch | P17: Management course | U17: =IF(SUM(Q17:T17)>=1,"COMPLETE",0) -> 0
C18: Ventilation / NIV | D18: =COUNTIF(Clinics!C:C,C18) -> 0 | L18: Bronchoscopy | M18: =COUNTIF('Bronch EBUS'!F:F,"*bronchoscopy*") -> 0 | P18: Thoracic surgery experience | U18: =IF(SUM(Q18:T18)>=1,"COMPLETE",0) -> 0
C19: Other | D19: =COUNTIF(Clinics!C:C,C19) -> 0 | F19: Respiratory Medicine | G19: Indwelling pleural catheter | H19: =COUNTIF(Procedures!$C$5:$C$1048576,OVERVIEW!G19) -> 0 | L19: EBUS | M19: =COUNTIF('Bronch EBUS'!F:F,"*EBUS*") -> 0 | P19: Research (e.g. OOPE, research methods course) | U19: =IF(SUM(Q19:T19)>=1,"COMPLETE",0) -> 0
C20: Total | D20: =SUM(D6:D19) -> 0 | G20: Intercostal drain insertion | H20: =COUNTIF(Procedures!$C$5:$C$1048576,OVERVIEW!G20) -> 0 | L20: Total | M20: =SUM(M18:M19) -> 0 | P20: Transplant placement | U20: =IF(SUM(Q20:T20)>=1,"COMPLETE",0) -> 0
B21: General Medicine | C21: Other 1 | D21: =COUNTIF(Clinics!C:C,C21) -> 0 | G21: IPC removal | H21: =COUNTIF(Procedures!$C$5:$C$1048576,OVERVIEW!G21) -> 0 | P21: Transplant course | U21: =IF(SUM(Q21:T21)>=1,"COMPLETE",0) -> 0
C22: Other 2 | D22: =COUNTIF(Clinics!C:C,C22) -> 0 | G22: Pleural aspiration for effusion | H22: =COUNTIF(Procedures!$C$5:$C$1048576,OVERVIEW!G22) -> 0 | L22: Acute Take Patients
C23: Other 3 | D23: =COUNTIF(Clinics!C:C,C23) -> 0 | G23: Pleural aspiration for pneumothorax | H23: =COUNTIF(Procedures!$C$5:$C$1048576,OVERVIEW!G23) -> 0 | L23: Frith calculator | M23: ='Acute Take'!H15 -> 0
C24: Other 4 | D24: =COUNTIF(Clinics!C:C,C24) -> 0 | G24: Pleurodesis | H24: =COUNTIF(Procedures!$C$5:$C$1048576,OVERVIEW!G24) -> 0 | P24: Quick Links
C25: Other 5 | D25: =COUNTIF(Clinics!C:C,C25) -> 0 | G25: Safe removal of chest drain | H25: =COUNTIF(Procedures!$C$5:$C$1048576,OVERVIEW!G25) -> 0 | P25: Respiratory Medicine 2022 ARCP Decision Aid
C26: Other 6 | D26: =COUNTIF(Clinics!C:C,C26) -> 0 | G26: Therapeutic pleural aspiration | H26: =COUNTIF(Procedures!$C$5:$C$1048576,OVERVIEW!G26) -> 0 | P26: IMS2 2022 ARCP Decision Aid
C27: Total GIM Clinics | D27: =SUM(D21:D26) -> 0 | G27: Thoracoscopy | H27: =COUNTIF(Procedures!$C$5:$C$1048576,OVERVIEW!G27) -> 0
C29: General Guidance
B30: 1 | C30: Please enter a date for all procedures. If you don't know the exact date, put an approximate date e.g. the 1st of the month. This will allow total procedure numbers to auto-fill.
B31: 2 | C31: For columns asking whether or where a procedure was performed e.g. EBUS, please enter "1" if the procedure was performed and leave blank if it was not
B32: 3 | C32: If you were providing "hands-on" supervision for a junior performing a procedure, please enter "1" for "Supervising Junior?"
B33: 4 | C33: Please do not enter any patient identifiable information - even initials or hospital numbers.
B34: 5 | C34: For "Other or Intervention" name the procedure performed e.g. removal of foreign body, laser, stent, cryobiopsy etc
B35: 6 | C35: All pleural procedures for fluid should be performed under ultrasound guidance
B36: 7 | C36: Please note that when a procedure e.g. bronchoscopy, is done "independently", the supervising Consultant may still be present. "Supervised" means that the Consultant actually has to step in and physically help with the procedure.
B37: 8 | C37: If you do not have a list of all acute take patients seen, the Firth Calculator or "Summary of training Calculator" may be used

Sheet Clinics
A2: Clinics
A4: List of individual clinics | F4: Summary calculation of outpatient experience
A5: Level | B5: Date | C5: Type of clinic (choose from dropdown) | D5: Specialty (select Respratory Medicine or General Medicine) | F5: Hospital name | G5: Start Date (DD/MM/YY) | H5: End Date (DD/MM/YY) | I5: WTE months in post | J5: Average number of outpatient clinics per month | K5: Estimated number of outpatient clinics done by you | L5: Name of educational supervisor who can verify estimates | O5: Clinic Specialty
K6: =I6*J6 -> 0 | O6: Respiratory Medicine
K7: =I7*J7 -> 0 | O7: General Medicine
K8: =I8*J8 -> 0
K9: =I9*J9 -> 0
K10: =I10*J10 -> 0 | O10: Clinic Type
K11: =I11*J11 -> 0 | O11: Asthma
K12: =I12*J12 -> 0 | O12: Bronchiectasis
K13: =I13*J13 -> 0 | O13: Cystic Fibrosis
K14: =I14*J14 -> 0 | O14: General Respiratory
K15: =I15*J15 -> 0 | O15: Interstitial Lung Disease
J16: Total | K16: =SUM(K7:K15) -> 0 | O16: Lung Cancer / Fast Track
F17: Note - minimum 186 outpatient clinics before CCT | O17: New Patient
F18: Note - appropriate recognition of 'outpatient equivalent experience': the number of these can be added to the number of outpatient clinics (see next tab) | O18: Pleural
F19: Note - trainees on the 2003 curriculum should complete this spreadsheet, but training requirements are based on months of outpatient experience | O19: Pulmonary Hypertension
O20: Sleep
O21: Thoracic Surgery
O22: Tuberculosis
O23: Ventilation / NIV
O24: Other
O25: Other 1
O26: Other 2
O27: Other 3
O28: Other 4
O29: Other 5
O30: Other 6

Sheet Procedures
A2: Procedures
A4: Date | B4: Hospital | C4: Procedure (choose from dropdown) | D4: Supervised? | E4: Skills lab | F4: DOPS | G4: Comments | K4: Procedure List (additional procedures can be added below)
K5: Abdominal paracentesis
K6: Advanced life support
K7: Airway management
K8: Arterial line
K9: Central line insertion
K10: Chemical cardioversion with adenosine
K11: DC cardioversion
K12: External pacing
K13: Femoral/IO access
K14: Indwelling pleural catheter
K15: Intercostal drain insertion
K16: IPC removal
... K27: Other 2

Sheet USS
A2: USS Logbook
A4: Date | B4: Location | C4: Background | D4: Supervised? | E4: Normal anatomy identified | F4: USS LEFT Findings | G4: USS RIGHT Findings | H4: 2nd Opinion? | I4: Procedure?

Sheet Referrals
A2: Referrals
A4: Summary calculation of outpatient equivalent experience
A5: Hospital name | B5: Start Date (DD/MM/YY) | C5: End Date (DD/MM/YY) | D5: WTE months in post | E5: Average number of outpatient equivalents per month | F5: Estimated number of outpatient equivalents done by you | G5: Explanation of outpatient equivalent | H5: Name of educational supervisor who can verify estimates
F6: =D6*E6 -> 0
F7: =D7*E7 -> 0
F8: =D8*E8 -> 0
F9: =D9*E9 -> 0
F10: =D10*E10 -> 0
F11: =D11*E11 -> 0
F12: =D12*E12 -> 0
F13: =D13*E13 -> 0
F14: =D14*E14 -> 0
F15: =D15*E15 -> 0
E16: Total | F16: =SUM(F7:F15) -> 0
A17: Note - explanation should include statement of type of interaction with patient, and number of patients seen in a single 'outpatient equivalent'
A18: Note - guidance: seeing 5 new ward consults would generally be regarded as a single 'outpatient equivalent'

Sheet ITU and HDU
A2: ITU/HDU Experience
A4: Date | B4: Hospital | C4: ITU/HDU | D4: Location | E4: Details
O5: ITU
O6: HDU

Sheet NIV
A2: NIV
A4: Date | B4: Hospital | C4: Age | D4: Gender | E4: Clinical problem | F4: Resp Ward/HDU/ITU | G4: Supervising? | H4: CPAP/BIPAP? | I4: Comments | M4: CPAP
M5: BIPAP

Sheet Bronch EBUS
A2: Bronchoscopy and EBUS
A4: Date | G4: Bronchoalveolar lavage | H4: Bronchial washings | I4: Endobronchial brushings | J4: Endobronchial biopsy | K4: Trans-bronchial biopsy
B5: Hospital | C5: Indication | D5: Comorbidities | E5: Supervised or Independent | F5: Procedure | G5: (If additional procdure selected, type 1 in the relevant box(es) below) | L5: Details | M5: Complications | N5: Followed up? | O5: Result | Q5: Bronchoscopy only
Q6: Bronchoscopy + additional procedure
Q7: EBUS

Sheet Acute Take
A2: Acute Take
A4: Summary calculation of acute medical take and general medical experience
A5: Hospital name | B5: Start Date (DD/MM/YY) | C5: End Date (DD/MM/YY) | D5: WTE months in post (1) | E5: WTE months on take rota (1) | F5: Average number of take shifts per WTE month | G5: Average number of take patients seen by you each shift (2) | H5: Estimated number of patients seen by you on acute take | I5: Name of educational supervisor who can verify estimates | J5: StR ward rounds / week | K5: Consultant led ward rounds / week | L5: CCU experience (Yes/No) (3) | M5: ITU experience (Yes/No) (3)
H6: =E6*F6*G6 -> 0
H7: =E7*F7*G7 -> 0
H8: =E8*F8*G8 -> 0
H9: =E9*F9*G9 -> 0
H10: =E10*F10*G10 -> 0
H11: =E11*F11*G11 -> 0
H12: =E12*F12*G12 -> 0
H13: =E13*F13*G13 -> 0
H14: =E14*F14*G14 -> 0
G15: Total | H15: =SUM(H7:H14) -> 0
A16: Note - minimum 1000 patients seen before CCT.
A17: Note - (1) If working part time, insert number of whole time equivalent months.
A18: Note - (2) 'Seen by' means having sufficient involvement for this to be recorded in the patient's notes
A19: Note - (3) May be secondment or shared care arrangements.
A20: Note - trainees on the 2003 curriculum should complete this spreadsheet, but training requirements are based on months of 'high' and 'low' intensity take experience

Sheet Teaching Attendance
A2: Teaching Attendance
A4: Date | B4: Grade | C4: Type | D4: Venue/Host | E4: GIM Hours | F4: Resp Hours | G4: Sim/Human Factors? | H4: Sim Hours
H5: =IF(G5="YES",SUM(E5:F5),0) -> 0
H6: =IF(G6="YES",SUM(E6:F6),0) -> 0
H7: =IF(G7="YES",SUM(E7:F7),0) -> 0
H8: =IF(G8="YES",SUM(E8:F8),0) -> 0
H9: =IF(G9="YES",SUM(E9:F9),0) -> 0
H10: =IF(G10="YES",SUM(E10:F10),0) -> 0
H11: =IF(G11="YES",SUM(E11:F11),0) -> 0
H12: =IF(G12="YES",SUM(E12:F12),0) -> 0
H13: =IF(G13="YES",SUM(E13:F13),0) -> 0
H14: =IF(G14="YES",SUM(E14:F14),0) -> 0
H15: =IF(G15="YES",SUM(E15:F15),0) -> 0
H16: =IF(G16="YES",SUM(E16:F16),0) -> 0
... H90: =IF(G90="YES",SUM(E90:F90),0) -> 0
